BEGIN:VCALENDAR
VERSION:2.0
PRODID:-//Feed My Sheep Food Assistance - ECPv6.15.20//NONSGML v1.0//EN
CALSCALE:GREGORIAN
METHOD:PUBLISH
X-WR-CALNAME:Feed My Sheep Food Assistance
X-ORIGINAL-URL:https://feedmysheepgrayson.org
X-WR-CALDESC:Events for Feed My Sheep Food Assistance
REFRESH-INTERVAL;VALUE=DURATION:PT1H
X-Robots-Tag:noindex
X-PUBLISHED-TTL:PT1H
BEGIN:VTIMEZONE
TZID:America/Chicago
BEGIN:DAYLIGHT
TZOFFSETFROM:-0600
TZOFFSETTO:-0500
TZNAME:CDT
DTSTART:20220313T080000
END:DAYLIGHT
BEGIN:STANDARD
TZOFFSETFROM:-0500
TZOFFSETTO:-0600
TZNAME:CST
DTSTART:20221106T070000
END:STANDARD
BEGIN:DAYLIGHT
TZOFFSETFROM:-0600
TZOFFSETTO:-0500
TZNAME:CDT
DTSTART:20230312T080000
END:DAYLIGHT
BEGIN:STANDARD
TZOFFSETFROM:-0500
TZOFFSETTO:-0600
TZNAME:CST
DTSTART:20231105T070000
END:STANDARD
BEGIN:DAYLIGHT
TZOFFSETFROM:-0600
TZOFFSETTO:-0500
TZNAME:CDT
DTSTART:20240310T080000
END:DAYLIGHT
BEGIN:STANDARD
TZOFFSETFROM:-0500
TZOFFSETTO:-0600
TZNAME:CST
DTSTART:20241103T070000
END:STANDARD
BEGIN:DAYLIGHT
TZOFFSETFROM:-0600
TZOFFSETTO:-0500
TZNAME:CDT
DTSTART:20250309T080000
END:DAYLIGHT
BEGIN:STANDARD
TZOFFSETFROM:-0500
TZOFFSETTO:-0600
TZNAME:CST
DTSTART:20251102T070000
END:STANDARD
END:VTIMEZONE
BEGIN:VEVENT
DTSTART;TZID=America/Chicago:20241025T150000
DTEND;TZID=America/Chicago:20241025T180000
DTSTAMP:20260424T100131
CREATED:20240823T163855Z
LAST-MODIFIED:20240823T164522Z
UID:1233-1729868400-1729879200@feedmysheepgrayson.org
SUMMARY:Friday Food Distribution
DESCRIPTION:
URL:https://feedmysheepgrayson.org/event/friday-food-distribution-6/
LOCATION:FMS\, 810 N Denny St\, Howe\, TX\, 75459\, United States
CATEGORIES:Food Distribution
ATTACH;FMTTYPE=image/png:https://feedmysheepgrayson.org/wp-content/uploads/2024/04/Screenshot-2024-04-19-160758.png
END:VEVENT
BEGIN:VEVENT
DTSTART;TZID=America/Chicago:20241019T090000
DTEND;TZID=America/Chicago:20241019T120000
DTSTAMP:20260424T100131
CREATED:20240823T163254Z
LAST-MODIFIED:20240823T163254Z
UID:1225-1729328400-1729339200@feedmysheepgrayson.org
SUMMARY:Saturday Food Distribution
DESCRIPTION:
URL:https://feedmysheepgrayson.org/event/saturday-food-distribution-4/
LOCATION:FMS\, 810 N Denny St\, Howe\, TX\, 75459\, United States
CATEGORIES:Food Distribution
END:VEVENT
BEGIN:VEVENT
DTSTART;TZID=America/Chicago:20241011T150000
DTEND;TZID=America/Chicago:20241011T180000
DTSTAMP:20260424T100131
CREATED:20240823T163754Z
LAST-MODIFIED:20240823T163754Z
UID:1231-1728658800-1728669600@feedmysheepgrayson.org
SUMMARY:Friday Food Distribution
DESCRIPTION:
URL:https://feedmysheepgrayson.org/event/friday-food-distribution-4/
LOCATION:FMS\, 810 N Denny St\, Howe\, TX\, 75459\, United States
CATEGORIES:Food Distribution
END:VEVENT
BEGIN:VEVENT
DTSTART;TZID=America/Chicago:20241005T090000
DTEND;TZID=America/Chicago:20241005T120000
DTSTAMP:20260424T100131
CREATED:20240823T154158Z
LAST-MODIFIED:20240823T164808Z
UID:1222-1728118800-1728129600@feedmysheepgrayson.org
SUMMARY:Saturday Food Distribution
DESCRIPTION:
URL:https://feedmysheepgrayson.org/event/saturday-food-distribution-3/
LOCATION:FMS\, 810 N Denny St\, Howe\, TX\, 75459\, United States
CATEGORIES:Food Distribution
ATTACH;FMTTYPE=image/png:https://feedmysheepgrayson.org/wp-content/uploads/2024/08/Hello-October.png
END:VEVENT
BEGIN:VEVENT
DTSTART;TZID=America/Chicago:20240927T150000
DTEND;TZID=America/Chicago:20240927T180000
DTSTAMP:20260424T100131
CREATED:20240823T163632Z
LAST-MODIFIED:20240823T163632Z
UID:1229-1727449200-1727460000@feedmysheepgrayson.org
SUMMARY:Friday Food Distribution
DESCRIPTION:
URL:https://feedmysheepgrayson.org/event/friday-food-distribution-2/
LOCATION:TX
CATEGORIES:Food Distribution
END:VEVENT
BEGIN:VEVENT
DTSTART;TZID=America/Chicago:20240921T090000
DTEND;TZID=America/Chicago:20240921T120000
DTSTAMP:20260424T100131
CREATED:20240823T151531Z
LAST-MODIFIED:20240823T152059Z
UID:1211-1726909200-1726920000@feedmysheepgrayson.org
SUMMARY:Saturday Food Distribution
DESCRIPTION:
URL:https://feedmysheepgrayson.org/event/saturday-food-distribution-2/
LOCATION:FMS\, 810 N Denny St\, Howe\, TX\, 75459\, United States
END:VEVENT
BEGIN:VEVENT
DTSTART;TZID=America/Chicago:20240913T150000
DTEND;TZID=America/Chicago:20240913T180000
DTSTAMP:20260424T100131
CREATED:20240823T163452Z
LAST-MODIFIED:20240823T163452Z
UID:1227-1726239600-1726250400@feedmysheepgrayson.org
SUMMARY:Friday Food Distribution
DESCRIPTION:
URL:https://feedmysheepgrayson.org/event/friday-food-distribution-5/
LOCATION:TX
CATEGORIES:Food Distribution
END:VEVENT
BEGIN:VEVENT
DTSTART;TZID=America/Chicago:20240907T090000
DTEND;TZID=America/Chicago:20240907T120000
DTSTAMP:20260424T100131
CREATED:20240823T151027Z
LAST-MODIFIED:20240823T153800Z
UID:1205-1725699600-1725710400@feedmysheepgrayson.org
SUMMARY:Saturday Food Distrubution
DESCRIPTION:
URL:https://feedmysheepgrayson.org/event/saturday-food-distrubution/
LOCATION:FMS\, 810 N Denny St\, Howe\, TX\, 75459\, United States
CATEGORIES:Food Distribution
END:VEVENT
BEGIN:VEVENT
DTSTART;TZID=America/Chicago:20240901T080000
DTEND;TZID=America/Chicago:20240919T170000
DTSTAMP:20260424T100131
CREATED:20240823T142136Z
LAST-MODIFIED:20240823T151955Z
UID:1200-1725177600-1726765200@feedmysheepgrayson.org
SUMMARY:North Texas Giving Day
DESCRIPTION:
URL:https://feedmysheepgrayson.org/event/north-texas-giving-day/
LOCATION:TX
END:VEVENT
BEGIN:VEVENT
DTSTART;TZID=America/Chicago:20240823T150000
DTEND;TZID=America/Chicago:20240823T180000
DTSTAMP:20260424T100131
CREATED:20240823T151355Z
LAST-MODIFIED:20240823T152221Z
UID:1209-1724425200-1724436000@feedmysheepgrayson.org
SUMMARY:Friday Food Distribution
DESCRIPTION:
URL:https://feedmysheepgrayson.org/event/friday-food-distribution-3/
LOCATION:FMS\, 810 N Denny St\, Howe\, TX\, 75459\, United States
END:VEVENT
BEGIN:VEVENT
DTSTART;TZID=America/Chicago:20240823T000000
DTEND;TZID=America/Chicago:20240823T000000
DTSTAMP:20260424T100131
CREATED:20240823T151653Z
LAST-MODIFIED:20240823T151653Z
UID:1203-1724371200-1724371200@feedmysheepgrayson.org
SUMMARY:Saturday Food Distrubution
DESCRIPTION:
URL:https://feedmysheepgrayson.org/event/saturday-food-distrubution-2/
LOCATION:FMS\, 810 N Denny St\, Howe\, TX\, 75459\, United States
END:VEVENT
BEGIN:VEVENT
DTSTART;TZID=America/Chicago:20230922T150000
DTEND;TZID=America/Chicago:20230922T180000
DTSTAMP:20260424T100131
CREATED:20230908T222713Z
LAST-MODIFIED:20230908T222713Z
UID:1105-1695394800-1695405600@feedmysheepgrayson.org
SUMMARY:Food Distribution
DESCRIPTION:
URL:https://feedmysheepgrayson.org/event/food-distribution-47/
LOCATION:TX
END:VEVENT
BEGIN:VEVENT
DTSTART;TZID=America/Chicago:20230916T090000
DTEND;TZID=America/Chicago:20230916T120000
DTSTAMP:20260424T100131
CREATED:20230908T222541Z
LAST-MODIFIED:20230908T222541Z
UID:1102-1694854800-1694865600@feedmysheepgrayson.org
SUMMARY:Food Distribution
DESCRIPTION:
URL:https://feedmysheepgrayson.org/event/food-distribution-46/
LOCATION:TX
END:VEVENT
BEGIN:VEVENT
DTSTART;TZID=America/Chicago:20230526T150000
DTEND;TZID=America/Chicago:20230526T180000
DTSTAMP:20260424T100131
CREATED:20230106T194357Z
LAST-MODIFIED:20230106T194357Z
UID:983-1685113200-1685124000@feedmysheepgrayson.org
SUMMARY:Food Distribution
DESCRIPTION:
URL:https://feedmysheepgrayson.org/event/food-distribution-35/
LOCATION:TX
END:VEVENT
BEGIN:VEVENT
DTSTART;TZID=America/Chicago:20230520T090000
DTEND;TZID=America/Chicago:20230520T120000
DTSTAMP:20260424T100131
CREATED:20230106T195118Z
LAST-MODIFIED:20230106T195118Z
UID:1003-1684573200-1684584000@feedmysheepgrayson.org
SUMMARY:Food Distribution
DESCRIPTION:
URL:https://feedmysheepgrayson.org/event/food-distribution-45/
LOCATION:TX
END:VEVENT
BEGIN:VEVENT
DTSTART;TZID=America/Chicago:20230512T150000
DTEND;TZID=America/Chicago:20230512T180000
DTSTAMP:20260424T100131
CREATED:20230106T194327Z
LAST-MODIFIED:20230106T194327Z
UID:981-1683903600-1683914400@feedmysheepgrayson.org
SUMMARY:Food Distribution
DESCRIPTION:
URL:https://feedmysheepgrayson.org/event/food-distribution-34/
LOCATION:TX
END:VEVENT
BEGIN:VEVENT
DTSTART;TZID=America/Chicago:20230506T090000
DTEND;TZID=America/Chicago:20230506T120000
DTSTAMP:20260424T100131
CREATED:20230106T195048Z
LAST-MODIFIED:20230106T195048Z
UID:1001-1683363600-1683374400@feedmysheepgrayson.org
SUMMARY:Food Distribution
DESCRIPTION:
URL:https://feedmysheepgrayson.org/event/food-distribution-44/
LOCATION:TX
END:VEVENT
BEGIN:VEVENT
DTSTART;TZID=America/Chicago:20230421T150000
DTEND;TZID=America/Chicago:20230421T180000
DTSTAMP:20260424T100131
CREATED:20230106T194218Z
LAST-MODIFIED:20230106T194218Z
UID:979-1682089200-1682100000@feedmysheepgrayson.org
SUMMARY:Food Distribution
DESCRIPTION:
URL:https://feedmysheepgrayson.org/event/food-distribution-33/
LOCATION:TX
END:VEVENT
BEGIN:VEVENT
DTSTART;TZID=America/Chicago:20230415T090000
DTEND;TZID=America/Chicago:20230415T120000
DTSTAMP:20260424T100131
CREATED:20230106T195021Z
LAST-MODIFIED:20230106T195021Z
UID:999-1681549200-1681560000@feedmysheepgrayson.org
SUMMARY:Food Distribution
DESCRIPTION:
URL:https://feedmysheepgrayson.org/event/food-distribution-43/
LOCATION:TX
END:VEVENT
BEGIN:VEVENT
DTSTART;TZID=America/Chicago:20230407T150000
DTEND;TZID=America/Chicago:20230407T180000
DTSTAMP:20260424T100131
CREATED:20230106T194148Z
LAST-MODIFIED:20230106T194148Z
UID:977-1680879600-1680890400@feedmysheepgrayson.org
SUMMARY:Food Distribution
DESCRIPTION:
URL:https://feedmysheepgrayson.org/event/food-distribution-32/
LOCATION:TX
END:VEVENT
BEGIN:VEVENT
DTSTART;TZID=America/Chicago:20230401T090000
DTEND;TZID=America/Chicago:20230401T120000
DTSTAMP:20260424T100131
CREATED:20230106T194944Z
LAST-MODIFIED:20230106T194944Z
UID:997-1680339600-1680350400@feedmysheepgrayson.org
SUMMARY:Food Distribution
DESCRIPTION:
URL:https://feedmysheepgrayson.org/event/food-distribution-42/
LOCATION:TX
END:VEVENT
BEGIN:VEVENT
DTSTART;TZID=America/Chicago:20230324T150000
DTEND;TZID=America/Chicago:20230324T180000
DTSTAMP:20260424T100131
CREATED:20230106T194124Z
LAST-MODIFIED:20230106T194124Z
UID:975-1679670000-1679680800@feedmysheepgrayson.org
SUMMARY:Food Distribution
DESCRIPTION:
URL:https://feedmysheepgrayson.org/event/food-distribution-31/
LOCATION:TX
END:VEVENT
BEGIN:VEVENT
DTSTART;TZID=America/Chicago:20230318T090000
DTEND;TZID=America/Chicago:20230318T120000
DTSTAMP:20260424T100131
CREATED:20230106T194719Z
LAST-MODIFIED:20230106T194825Z
UID:993-1679130000-1679140800@feedmysheepgrayson.org
SUMMARY:Food Distribution
DESCRIPTION:
URL:https://feedmysheepgrayson.org/event/food-distribution-40/
LOCATION:TX
END:VEVENT
BEGIN:VEVENT
DTSTART;TZID=America/Chicago:20230310T150000
DTEND;TZID=America/Chicago:20230310T180000
DTSTAMP:20260424T100131
CREATED:20230106T193346Z
LAST-MODIFIED:20230106T193804Z
UID:969-1678460400-1678471200@feedmysheepgrayson.org
SUMMARY:Food Distribution
DESCRIPTION:
URL:https://feedmysheepgrayson.org/event/food-distribution-30/
LOCATION:TX
END:VEVENT
BEGIN:VEVENT
DTSTART;TZID=America/Chicago:20230304T090000
DTEND;TZID=America/Chicago:20230304T120000
DTSTAMP:20260424T100131
CREATED:20230106T194923Z
LAST-MODIFIED:20230106T194923Z
UID:995-1677920400-1677931200@feedmysheepgrayson.org
SUMMARY:Food Distribution
DESCRIPTION:
URL:https://feedmysheepgrayson.org/event/food-distribution-41/
LOCATION:TX
END:VEVENT
BEGIN:VEVENT
DTSTART;TZID=America/Chicago:20230224T150000
DTEND;TZID=America/Chicago:20230224T180000
DTSTAMP:20260424T100131
CREATED:20230106T193037Z
LAST-MODIFIED:20230106T193544Z
UID:966-1677250800-1677261600@feedmysheepgrayson.org
SUMMARY:Food Distribution
DESCRIPTION:
URL:https://feedmysheepgrayson.org/event/food-distribution-29/
LOCATION:TX
END:VEVENT
BEGIN:VEVENT
DTSTART;TZID=America/Chicago:20230218T090000
DTEND;TZID=America/Chicago:20230218T120000
DTSTAMP:20260424T100131
CREATED:20230106T194641Z
LAST-MODIFIED:20230106T194641Z
UID:991-1676710800-1676721600@feedmysheepgrayson.org
SUMMARY:Food Distribution
DESCRIPTION:
URL:https://feedmysheepgrayson.org/event/food-distribution-39/
LOCATION:TX
END:VEVENT
BEGIN:VEVENT
DTSTART;TZID=America/Chicago:20230210T150000
DTEND;TZID=America/Chicago:20230210T180000
DTSTAMP:20260424T100131
CREATED:20230106T192722Z
LAST-MODIFIED:20230106T193626Z
UID:962-1676041200-1676052000@feedmysheepgrayson.org
SUMMARY:Food Distribution
DESCRIPTION:
URL:https://feedmysheepgrayson.org/event/food-distribution-28/
LOCATION:TX
END:VEVENT
BEGIN:VEVENT
DTSTART;TZID=America/Chicago:20230204T090000
DTEND;TZID=America/Chicago:20230204T120000
DTSTAMP:20260424T100131
CREATED:20230106T194613Z
LAST-MODIFIED:20230106T194613Z
UID:989-1675501200-1675512000@feedmysheepgrayson.org
SUMMARY:Food Distribution
DESCRIPTION:
URL:https://feedmysheepgrayson.org/event/food-distribution-38/
LOCATION:TX
END:VEVENT
BEGIN:VEVENT
DTSTART;TZID=America/Chicago:20230127T150000
DTEND;TZID=America/Chicago:20230127T180000
DTSTAMP:20260424T100131
CREATED:20230106T192532Z
LAST-MODIFIED:20230106T192532Z
UID:960-1674831600-1674842400@feedmysheepgrayson.org
SUMMARY:Food Dristribution
DESCRIPTION:
URL:https://feedmysheepgrayson.org/event/food-dristribution/
LOCATION:TX
END:VEVENT
END:VCALENDAR